BEGIN:VCALENDAR
VERSION:2.0
PRODID:-//ChamberMaster//Event Calendar 2.0//EN
METHOD:PUBLISH
X-PUBLISHED-TTL:P3D
REFRESH-INTERVAL:P3D
CALSCALE:GREGORIAN
BEGIN:VEVENT
DTSTART:20250205T200000Z
DTEND:20250205T210000Z
X-MICROSOFT-CDO-ALLDAYEVENT:FALSE
SUMMARY:LAPD Van Nuys Retailers Meeting
DESCRIPTION:CANCELED due to deployment needs in the area. Will resume meeting in March.\n\n\n\nJoin the LAPD Van Nuys Division for their monthly retailers meeting. This is your opportunity to talk with Burglary and Theft Detectives as well as fellow retailers.
X-ALT-DESC;FMTTYPE=text/html:<div style="font-style: inherit\; font-variant: inherit\; font-weight: inherit\; background-color: rgb(255\, 255\, 255)\; border-color: currentcolor\; border-style: none\; border-width: 0px\; border-image: none 100% / 1 / 0 stretch\; font-family: Calibri\, Arial\, Helvetica\, sans-serif\; font-size: 12pt\; font-stretch: inherit\; line-height: inherit\; margin: 0px\; padding: 0px\; vertical-align: baseline\;"><strong style="font-family: tahoma\; font-size: 16px\;">CANCELED due to deployment needs in the area.&nbsp\;Will resume meeting in March.</strong><br />\n<br />\n<span style="font-family: tahoma\; font-size: 16px\;">Join the LAPD Van Nuys Division for their monthly retailers meeting. This is your opportunity to talk with Burglary and Theft Detectives as well as fellow retailers. &nbsp\;</span></div>\n
LOCATION:Van Nuys Station Community Room
UID:e.550.10588
SEQUENCE:3
DTSTAMP:20260424T144706Z
URL:https://members.shermanoaksencinochamber.org/events/details/lapd-van-nuys-retailers-meeting-10588
END:VEVENT

END:VCALENDAR
